View In:
ArcGIS JavaScript
ArcGIS Online Map Viewer
ArcGIS Earth
Service Description: ASCE/NAVD88_vdatum
Name: ASCE/NAVD88_vdatum
Description:
Single Fused Map Cache: false
Extent:
XMin: -125.30000153163834
YMin: 32.449909018799254
XMax: -116.99990917145416
YMax: 49.322964101912405
Spatial Reference: 4326
(4326)
LatestVCSWkid(0)
Initial Extent:
XMin: -125.30000153163834
YMin: 32.449909018799254
XMax: -116.99990917145416
YMax: 49.322964101912405
Spatial Reference: 4326
(4326)
LatestVCSWkid(0)
Full Extent:
XMin: -125.30000153163834
YMin: 32.449909018799254
XMax: -116.99990917145416
YMax: 49.322964101912405
Spatial Reference: 4326
(4326)
LatestVCSWkid(0)
Pixel Size X: 9.259258999993508E-5
Pixel Size Y: 9.259259000001729E-5
Band Count: 1
Pixel Type: F32
RasterFunction Infos: {"rasterFunctionInfos": [{
"name": "None",
"description": "",
"help": ""
}]}
Mensuration Capabilities: Basic
Inspection Capabilities:
Has Histograms: true
Has Colormap: false
Has Multi Dimensions : false
Rendering Rule:
Min Scale: 0
Max Scale: 0
Copyright Text:
Service Data Type: esriImageServiceDataTypeGeneric
Min Values: -12740.5478515625
Max Values: 1884.8038330078125
Mean Values: -2330.9152645759627
Standard Deviation Values: 3082.80278470971
Object ID Field:
Fields:
None
Default Mosaic Method: Center
Allowed Mosaic Methods:
SortField:
SortValue: null
Mosaic Operator: First
Default Compression Quality: 75
Default Resampling Method: Bilinear
Max Record Count: null
Max Image Height: 4100
Max Image Width: 15000
Max Download Image Count: null
Max Mosaic Image Count: null
Allow Raster Function: true
Allow Copy: true
Allow Analysis: true
Allow Compute TiePoints: false
Supports Statistics: false
Supports Advanced Queries: false
Use StandardizedQueries: true
Raster Type Infos:
Name: Raster Dataset
Description: Supports all ArcGIS Raster Datasets
Help:
Has Raster Attribute Table: false
Edit Fields Info: null
Ownership Based AccessControl For Rasters: null
Child Resources:
Info
Histograms
Statistics
Key Properties
Legend
Raster Function Infos
Supported Operations:
Export Image
Identify
Measure
Compute Histograms
Compute Statistics Histograms
Get Samples
Compute Class Statistics
Query Boundary
Compute Pixel Location
Compute Angles
Validate
Project