View In:
ArcGIS JavaScript
ArcGIS Online Map Viewer
ArcGIS Earth
Service Description: ASCE/ground_subsidence
Name: ASCE/ground_subsidence
Description:
Single Fused Map Cache: false
Extent:
XMin: -220.91707187669687
YMin: 10.73560803838241
XMax: -113.79707182313687
YMax: 97.5822747484724
Spatial Reference: 4326
(4326)
LatestVCSWkid(0)
Initial Extent:
XMin: -220.91707187669687
YMin: 10.73560803838241
XMax: -113.79707182313687
YMax: 97.5822747484724
Spatial Reference: 4326
(4326)
LatestVCSWkid(0)
Full Extent:
XMin: -220.91707187669687
YMin: 10.73560803838241
XMax: -113.79707182313687
YMax: 97.5822747484724
Spatial Reference: 4326
(4326)
LatestVCSWkid(0)
Pixel Size X: 0.00666666667
Pixel Size Y: 0.006666666669999999
Band Count: 1
Pixel Type: F32
RasterFunction Infos: {"rasterFunctionInfos": [{
"name": "None",
"description": "",
"help": ""
}]}
Mensuration Capabilities: Basic
Inspection Capabilities:
Has Histograms: true
Has Colormap: false
Has Multi Dimensions : false
Rendering Rule:
Min Scale: 0
Max Scale: 0
Copyright Text:
Service Data Type: esriImageServiceDataTypeGeneric
Min Values: 0
Max Values: 17.5
Mean Values: 0.40388509625908736
Standard Deviation Values: 1.6052438184724342
Object ID Field:
Fields:
None
Default Mosaic Method: Center
Allowed Mosaic Methods:
SortField:
SortValue: null
Mosaic Operator: First
Default Compression Quality: 75
Default Resampling Method: Bilinear
Max Record Count: null
Max Image Height: 4100
Max Image Width: 15000
Max Download Image Count: null
Max Mosaic Image Count: null
Allow Raster Function: true
Allow Copy: true
Allow Analysis: true
Allow Compute TiePoints: false
Supports Statistics: false
Supports Advanced Queries: false
Use StandardizedQueries: true
Raster Type Infos:
Name: Raster Dataset
Description: Supports all ArcGIS Raster Datasets
Help:
Has Raster Attribute Table: false
Edit Fields Info: null
Ownership Based AccessControl For Rasters: null
Child Resources:
Info
Histograms
Statistics
Key Properties
Legend
Raster Function Infos
Supported Operations:
Export Image
Identify
Measure
Compute Histograms
Compute Statistics Histograms
Get Samples
Compute Class Statistics
Query Boundary
Compute Pixel Location
Compute Angles
Validate
Project