View In:
ArcGIS JavaScript
ArcGIS Online Map Viewer
ArcGIS Earth
Service Description: ASCE722/MHW_DEM_Hawaii
Name: ASCE722/MHW_DEM_Hawaii
Description:
Single Fused Map Cache: false
Extent:
XMin: -161.0
YMin: 17.999999978049374
XMax: -153.9999999692683
YMax: 23.000000000000597
Spatial Reference: 4326
(4326)
LatestVCSWkid(0)
Initial Extent:
XMin: -161.0
YMin: 17.999999978049374
XMax: -153.9999999692683
YMax: 23.000000000000597
Spatial Reference: 4326
(4326)
LatestVCSWkid(0)
Full Extent:
XMin: -161.0
YMin: 17.999999978049374
XMax: -153.9999999692683
YMax: 23.000000000000597
Spatial Reference: 4326
(4326)
LatestVCSWkid(0)
Pixel Size X: 9.259259299909672E-5
Pixel Size Y: 9.259259299909672E-5
Band Count: 1
Pixel Type: F32
RasterFunction Infos: {"rasterFunctionInfos": [{
"name": "None",
"description": "",
"help": ""
}]}
Mensuration Capabilities: Basic
Inspection Capabilities:
Has Histograms: true
Has Colormap: false
Has Multi Dimensions : false
Rendering Rule:
Min Scale: 0
Max Scale: 0
Copyright Text:
Service Data Type: esriImageServiceDataTypeGeneric
Min Values: -5829.64697265625
Max Values: 4199.83544921875
Mean Values: -3918.2806696793264
Standard Deviation Values: 1606.1913263836655
Object ID Field:
Fields:
None
Default Mosaic Method: Center
Allowed Mosaic Methods:
SortField:
SortValue: null
Mosaic Operator: First
Default Compression Quality: 75
Default Resampling Method: Bilinear
Max Record Count: null
Max Image Height: 4100
Max Image Width: 15000
Max Download Image Count: null
Max Mosaic Image Count: null
Allow Raster Function: true
Allow Copy: true
Allow Analysis: true
Allow Compute TiePoints: false
Supports Statistics: false
Supports Advanced Queries: false
Use StandardizedQueries: true
Raster Type Infos:
Name: Raster Dataset
Description: Supports all ArcGIS Raster Datasets
Help:
Has Raster Attribute Table: false
Edit Fields Info: null
Ownership Based AccessControl For Rasters: null
Child Resources:
Info
Histograms
Statistics
Key Properties
Legend
Raster Function Infos
Supported Operations:
Export Image
Identify
Measure
Compute Histograms
Compute Statistics Histograms
Get Samples
Compute Class Statistics
Query Boundary
Compute Pixel Location
Compute Angles
Validate
Project