View In:
ArcGIS JavaScript
ArcGIS Online Map Viewer
ArcGIS Earth
Service Description: ASCE722/s2022_RiskCategory4
Name: ASCE722/s2022_RiskCategory4
Description:
Single Fused Map Cache: false
Extent:
XMin: -125.029166666333
YMin: 24.062499999856005
XMax: -66.47083333534201
YMax: 49.945833332154
Spatial Reference: 4326
(4326)
LatestVCSWkid(0)
Initial Extent:
XMin: -125.029166666333
YMin: 24.062499999856005
XMax: -66.47083333534201
YMax: 49.945833332154
Spatial Reference: 4326
(4326)
LatestVCSWkid(0)
Full Extent:
XMin: -125.029166666333
YMin: 24.062499999856005
XMax: -66.47083333534201
YMax: 49.945833332154
Spatial Reference: 4326
(4326)
LatestVCSWkid(0)
Pixel Size X: 0.008333333333
Pixel Size Y: 0.008333333333
Band Count: 1
Pixel Type: F32
RasterFunction Infos: {"rasterFunctionInfos": [{
"name": "None",
"description": "",
"help": ""
}]}
Mensuration Capabilities: Basic
Inspection Capabilities:
Has Histograms: true
Has Colormap: false
Has Multi Dimensions : false
Rendering Rule:
Min Scale: 0
Max Scale: 0
Copyright Text:
Service Data Type: esriImageServiceDataTypeGeneric
Min Values: 5
Max Values: 1241.555419921875
Mean Values: 82.19047636723927
Standard Deviation Values: 106.27779147732275
Object ID Field:
Fields:
None
Default Mosaic Method: Center
Allowed Mosaic Methods:
SortField:
SortValue: null
Mosaic Operator: First
Default Compression Quality: 75
Default Resampling Method: Bilinear
Max Record Count: null
Max Image Height: 4100
Max Image Width: 15000
Max Download Image Count: null
Max Mosaic Image Count: null
Allow Raster Function: true
Allow Copy: true
Allow Analysis: true
Allow Compute TiePoints: false
Supports Statistics: false
Supports Advanced Queries: false
Use StandardizedQueries: true
Raster Type Infos:
Name: Raster Dataset
Description: Supports all ArcGIS Raster Datasets
Help:
Has Raster Attribute Table: false
Edit Fields Info: null
Ownership Based AccessControl For Rasters: null
Child Resources:
Info
Histograms
Statistics
Key Properties
Legend
Raster Function Infos
Supported Operations:
Export Image
Identify
Measure
Compute Histograms
Compute Statistics Histograms
Get Samples
Compute Class Statistics
Query Boundary
Compute Pixel Location
Compute Angles
Validate
Project